BEGIN:VCALENDAR
VERSION:2.0
PRODID:-//indianafreelibrary.org//NONSGML kigkonsult.se iCalcreator 2.30.10
 //
CALSCALE:GREGORIAN
METHOD:PUBLISH
UID:1567355f-b21d-4d46-bd3f-fd1df8e42279
X-WR-CALDESC:Come relax after school with some tacos\, conversation and gam
 es.
X-WR-RELCALID:b4e94c466cb9b38d6f4e950fdfc3557c
X-WR-TIMEZONE:America/New_York
BEGIN:VTIMEZONE
TZID:America/New_York
BEGIN:STANDARD
TZNAME:EST
DTSTART:20251102T020000
TZOFFSETFROM:-0400
TZOFFSETTO:-0500
RDATE:20261101T020000
END:STANDARD
BEGIN:DAYLIGHT
TZNAME:EDT
DTSTART:20260308T020000
TZOFFSETFROM:-0500
TZOFFSETTO:-0400
RDATE:20270314T020000
END:DAYLIGHT
END:VTIMEZONE
BEGIN:VEVENT
UID:7cc9d2c9-1a4c-4c11-92a3-d45e3dd273b7
DTSTAMP:20260424T123753Z
DESCRIPTION:Come relax after school with some tacos\, conversation and game
 s.
DTSTART;TZID=America/New_York:20260421T160000
DTEND;TZID=America/New_York:20260421T170000
LOCATION:845 Philadelphia Street\, Indiana\, PA 15701 US
SUMMARY:Taco Tuesday
END:VEVENT
END:VCALENDAR
