BEGIN:VCALENDAR
VERSION:2.0
PRODID:-//indianafreelibrary.org//NONSGML kigkonsult.se iCalcreator 2.30.10
 //
CALSCALE:GREGORIAN
METHOD:PUBLISH
UID:4aef3c1c-0eb3-4771-a547-5618c093f705
X-WR-CALDESC:
X-WR-RELCALID:73e8297ad9f9260f2200caf25e93a88c
X-WR-TIMEZONE:America/New_York
BEGIN:VTIMEZONE
TZID:America/New_York
BEGIN:STANDARD
TZNAME:EST
DTSTART:20251102T020000
TZOFFSETFROM:-0400
TZOFFSETTO:-0500
RDATE:20261101T020000
END:STANDARD
BEGIN:DAYLIGHT
TZNAME:EDT
DTSTART:20260308T020000
TZOFFSETFROM:-0500
TZOFFSETTO:-0400
RDATE:20270314T020000
END:DAYLIGHT
END:VTIMEZONE
BEGIN:VEVENT
UID:7773ba20-196c-4c26-b7c7-7d4fa1efde1e
DTSTAMP:20260424T122923Z
DESCRIPTION:
DTSTART;TZID=America/New_York:20260420T180000
DTEND;TZID=America/New_York:20260420T200000
LOCATION:845 Philadelphia Street\, Indiana\, PA 15701 US
SUMMARY:Dungeons & Dragons @ IFL
END:VEVENT
END:VCALENDAR
