BEGIN:VCALENDAR
VERSION:2.0
PRODID:-//indianafreelibrary.org//NONSGML kigkonsult.se iCalcreator 2.30.10
 //
CALSCALE:GREGORIAN
METHOD:PUBLISH
UID:3b71d518-aae5-45cf-92b2-890d1ebf2bc8
X-WR-CALDESC:Learn to Play\, Play to Learn new strategies\, Know the rules\
 , challenge yourself\nIFL club has three soft mats and chess pieces and al
 so the chess table for two\, so we encourage you to bring your board and f
 ind out how competitive you are.\nThere will be adults there who know how 
 to play and some that don't
X-WR-RELCALID:2b084cf2d31b8d201a10079370b53363
X-WR-TIMEZONE:America/New_York
BEGIN:VTIMEZONE
TZID:America/New_York
BEGIN:STANDARD
TZNAME:EST
DTSTART:20251102T020000
TZOFFSETFROM:-0400
TZOFFSETTO:-0500
RDATE:20261101T020000
END:STANDARD
BEGIN:DAYLIGHT
TZNAME:EDT
DTSTART:20260308T020000
TZOFFSETFROM:-0500
TZOFFSETTO:-0400
RDATE:20270314T020000
END:DAYLIGHT
END:VTIMEZONE
BEGIN:VEVENT
UID:b1f35d92-17b7-48b5-ab8b-ad1e76eb52bd
DTSTAMP:20260424T135359Z
DESCRIPTION:Learn to Play\, Play to Learn new strategies\, Know the rules\,
  challenge yourself\nIFL club has three soft mats and chess pieces and als
 o the chess table for two\, so we encourage you to bring your board and fi
 nd out how competitive you are.\nThere will be adults there who know how t
 o play and some that don't
DTSTART;TZID=America/New_York:20260418T130000
DTEND;TZID=America/New_York:20260418T150000
LOCATION:845 Philadelphia Street\, Indiana Free Library\, Indiana\, PA 1570
 1 US
SUMMARY:IFL Chess Club
END:VEVENT
END:VCALENDAR
