BEGIN:VCALENDAR
VERSION:2.0
PRODID:-//indianafreelibrary.org//NONSGML kigkonsult.se iCalcreator 2.30.10
 //
CALSCALE:GREGORIAN
METHOD:PUBLISH
UID:b1e7e51e-b6ce-491e-a0c9-24d88d1271bc
X-WR-CALDESC:
X-WR-RELCALID:fcc337ae22688ef26c0b75b771167f3c
X-WR-TIMEZONE:America/New_York
BEGIN:VTIMEZONE
TZID:America/New_York
BEGIN:STANDARD
TZNAME:EST
DTSTART:20251102T020000
TZOFFSETFROM:-0400
TZOFFSETTO:-0500
RDATE:20261101T020000
END:STANDARD
BEGIN:DAYLIGHT
TZNAME:EDT
DTSTART:20260308T020000
TZOFFSETFROM:-0500
TZOFFSETTO:-0400
RDATE:20270314T020000
END:DAYLIGHT
END:VTIMEZONE
BEGIN:VEVENT
UID:a04db7bf-6a44-4e8a-99bd-61185cece966
DTSTAMP:20260424T135918Z
DESCRIPTION:
DTSTART;TZID=America/New_York:20260418T110000
DTEND;TZID=America/New_York:20260418T150000
LOCATION:845 Philadelphia Street\, Indiana Free Library\, Indiana\, PA 1570
 1 US
SUMMARY:The Little Read Bookstore
END:VEVENT
END:VCALENDAR
