BEGIN:VCALENDAR
VERSION:2.0
PRODID:-//indianafreelibrary.org//NONSGML kigkonsult.se iCalcreator 2.30.10
 //
CALSCALE:GREGORIAN
METHOD:PUBLISH
UID:ad11d897-5800-40a0-bfe8-df53094a9a8c
X-WR-CALDESC:
X-WR-RELCALID:8469300656ff71d20edda6c8904d4fc8
X-WR-TIMEZONE:America/New_York
BEGIN:VTIMEZONE
TZID:America/New_York
BEGIN:STANDARD
TZNAME:EST
DTSTART:20251102T020000
TZOFFSETFROM:-0400
TZOFFSETTO:-0500
RDATE:20261101T020000
END:STANDARD
BEGIN:DAYLIGHT
TZNAME:EDT
DTSTART:20260308T020000
TZOFFSETFROM:-0500
TZOFFSETTO:-0400
RDATE:20270314T020000
END:DAYLIGHT
END:VTIMEZONE
BEGIN:VEVENT
UID:40e8f486-4d94-4240-9865-c61af26e4582
DTSTAMP:20260424T140145Z
DESCRIPTION:
DTSTART;TZID=America/New_York:20260416T060000
DTEND;TZID=America/New_York:20260416T060001
LOCATION:Indiana Free Library\, Children's Department\, 845 Philadelphia St
 reet\, Indiana\, PA 15701 US
SUMMARY:No Storytime at the Hen House Today!
END:VEVENT
END:VCALENDAR
