BEGIN:VCALENDAR
VERSION:2.0
PRODID:-//indianafreelibrary.org//NONSGML kigkonsult.se iCalcreator 2.30.10
 //
CALSCALE:GREGORIAN
METHOD:PUBLISH
UID:db085419-8385-41f4-ac13-167a7f0c5585
X-WR-CALDESC:Each month we will be reading a different romance trope and yo
 u will choose what book you want to read that fits that trope!
X-WR-RELCALID:3b709da965aa38fd7cce230a227c02ba
X-WR-TIMEZONE:America/New_York
BEGIN:VTIMEZONE
TZID:America/New_York
BEGIN:STANDARD
TZNAME:EST
DTSTART:20251102T020000
TZOFFSETFROM:-0400
TZOFFSETTO:-0500
RDATE:20261101T020000
END:STANDARD
BEGIN:DAYLIGHT
TZNAME:EDT
DTSTART:20260308T020000
TZOFFSETFROM:-0500
TZOFFSETTO:-0400
RDATE:20270314T020000
END:DAYLIGHT
END:VTIMEZONE
BEGIN:VEVENT
UID:49aa354b-a42f-4d05-982c-d92cf91271a4
DTSTAMP:20260424T124011Z
DESCRIPTION:Each month we will be reading a different romance trope and you
  will choose what book you want to read that fits that trope!
DTSTART;TZID=America/New_York:20260415T190000
DTEND;TZID=America/New_York:20260415T200000
LOCATION:845 Philadelphia St\, Indiana\, PA 15701 US
SUMMARY:Romance Book Club
END:VEVENT
END:VCALENDAR
