BEGIN:VCALENDAR
VERSION:2.0
PRODID:-//indianafreelibrary.org//NONSGML kigkonsult.se iCalcreator 2.30.10
 //
CALSCALE:GREGORIAN
METHOD:PUBLISH
UID:6441fb2d-c110-449c-b01b-641f0f6a93d8
X-WR-CALDESC:
X-WR-RELCALID:23442e3b0aeb31d83bd8cb080036d6a7
X-WR-TIMEZONE:America/New_York
BEGIN:VTIMEZONE
TZID:America/New_York
BEGIN:STANDARD
TZNAME:EST
DTSTART:20251102T020000
TZOFFSETFROM:-0400
TZOFFSETTO:-0500
RDATE:20261101T020000
END:STANDARD
BEGIN:DAYLIGHT
TZNAME:EDT
DTSTART:20260308T020000
TZOFFSETFROM:-0500
TZOFFSETTO:-0400
RDATE:20270314T020000
END:DAYLIGHT
END:VTIMEZONE
BEGIN:VEVENT
UID:a31dbc6d-6c3b-47be-8bc9-398b2f49d3f0
DTSTAMP:20260424T124453Z
DESCRIPTION:
DTSTART;TZID=America/New_York:20260413T180000
DTEND;TZID=America/New_York:20260413T200000
LOCATION:845 Philadelphia Street\, Indiana\, PA 15701 US
SUMMARY:Dungeons & Dragons @ IFL
END:VEVENT
END:VCALENDAR
