BEGIN:VCALENDAR
VERSION:2.0
PRODID:-//indianafreelibrary.org//NONSGML kigkonsult.se iCalcreator 2.30.10
 //
CALSCALE:GREGORIAN
METHOD:PUBLISH
UID:df66a182-cf1e-41d4-83cc-916218129be8
X-WR-CALDESC:Storytime at the Hen House is a library program for kids aged 
 3-5 and takes place every Thursday in the Storyroom and Craft Area of the 
 library at 10:30 AM. Sometimes\, Val's fluffy\, feathered girls will join 
 in virtually for a fun story and craft. We'll read a short story together\
 , usually a new book\, and then afterwards\, work on an easy\, but fun cra
 ft or activity with all materials provided. No registration is required an
 d our program is free and open to the public.
X-WR-RELCALID:c1c5771f1da7d4680f0533dd56816ff0
X-WR-TIMEZONE:America/New_York
BEGIN:VTIMEZONE
TZID:America/New_York
BEGIN:STANDARD
TZNAME:EST
DTSTART:20251102T020000
TZOFFSETFROM:-0400
TZOFFSETTO:-0500
RDATE:20261101T020000
END:STANDARD
BEGIN:DAYLIGHT
TZNAME:EDT
DTSTART:20260308T020000
TZOFFSETFROM:-0500
TZOFFSETTO:-0400
RDATE:20270314T020000
END:DAYLIGHT
END:VTIMEZONE
BEGIN:VEVENT
UID:a88d72c5-78dd-48de-87bb-5200b3c863d7
DTSTAMP:20260424T135359Z
DESCRIPTION:Storytime at the Hen House is a library program for kids aged 3
 -5 and takes place every Thursday in the Storyroom and Craft Area of the l
 ibrary at 10:30 AM. Sometimes\, Val's fluffy\, feathered girls will join i
 n virtually for a fun story and craft. We'll read a short story together\,
  usually a new book\, and then afterwards\, work on an easy\, but fun craf
 t or activity with all materials provided. No registration is required and
  our program is free and open to the public.
DTSTART;TZID=America/New_York:20260409T103000
DTEND;TZID=America/New_York:20260409T113000
LOCATION:Indiana Free Library\, Children's Department\, 845 Philadelphia St
 reet\, Indiana\, PA 15701 US
SUMMARY:Storytime at the Hen House: Click\, Clack\, Moo\, and Paper Plate C
 ow
END:VEVENT
END:VCALENDAR
