BEGIN:VCALENDAR
VERSION:2.0
PRODID:-//indianafreelibrary.org//NONSGML kigkonsult.se iCalcreator 2.30.10
 //
CALSCALE:GREGORIAN
METHOD:PUBLISH
UID:957d276e-9d92-4c9a-b244-3cd35db27f5f
X-WR-CALDESC:Come hang out at the library for an hour to decompress. We mig
 ht do a craft\, a puzzle or just talk!
X-WR-RELCALID:baf1afaa0c42d68d4833d18524a21582
X-WR-TIMEZONE:America/New_York
BEGIN:VTIMEZONE
TZID:America/New_York
BEGIN:STANDARD
TZNAME:EST
DTSTART:20251102T020000
TZOFFSETFROM:-0400
TZOFFSETTO:-0500
RDATE:20261101T020000
END:STANDARD
BEGIN:DAYLIGHT
TZNAME:EDT
DTSTART:20260308T020000
TZOFFSETFROM:-0500
TZOFFSETTO:-0400
RDATE:20270314T020000
END:DAYLIGHT
END:VTIMEZONE
BEGIN:VEVENT
UID:2d8bd03b-2a17-4532-91ba-533d237388d6
DTSTAMP:20260424T122919Z
DESCRIPTION:Come hang out at the library for an hour to decompress. We migh
 t do a craft\, a puzzle or just talk!
DTSTART;TZID=America/New_York:20260408T160000
DTEND;TZID=America/New_York:20260408T170000
LOCATION:845 Philadelphia St\, Indiana\, PA 15701 US
SUMMARY:Teen Drop In
END:VEVENT
END:VCALENDAR
