BEGIN:VCALENDAR
VERSION:2.0
PRODID:-//indianafreelibrary.org//NONSGML kigkonsult.se iCalcreator 2.30.10
 //
CALSCALE:GREGORIAN
METHOD:PUBLISH
UID:22a5520e-99f0-40bd-a1b3-c56db6121d19
X-WR-CALDESC:Start your spring break off with a movie afternoon at the libr
 ary! We will be watching a movie based on a book. Voting for the movie wil
 l be available in the Teen Area until March 19th. Our Teen Advisory Board 
 has chosen 5 movies based on books for you to vote on using a ranking syst
 em. \nPopcorn and drinks will be provided.
X-WR-RELCALID:1a92e9004a227256c4850df4014b97e9
X-WR-TIMEZONE:America/New_York
BEGIN:VTIMEZONE
TZID:America/New_York
BEGIN:STANDARD
TZNAME:EST
DTSTART:20251102T020000
TZOFFSETFROM:-0400
TZOFFSETTO:-0500
RDATE:20261101T020000
END:STANDARD
BEGIN:DAYLIGHT
TZNAME:EDT
DTSTART:20260308T020000
TZOFFSETFROM:-0500
TZOFFSETTO:-0400
RDATE:20270314T020000
END:DAYLIGHT
END:VTIMEZONE
BEGIN:VEVENT
UID:8ce65433-b3f9-4e57-b3d7-f43567cf8b8a
DTSTAMP:20260424T122825Z
DESCRIPTION:Start your spring break off with a movie afternoon at the libra
 ry! We will be watching a movie based on a book. Voting for the movie will
  be available in the Teen Area until March 19th. Our Teen Advisory Board h
 as chosen 5 movies based on books for you to vote on using a ranking syste
 m. \nPopcorn and drinks will be provided.
DTSTART;TZID=America/New_York:20260402T150000
DTEND;TZID=America/New_York:20260402T173000
LOCATION:845 Philadelphia St\, Indiana\, PA 15701 US
SUMMARY:Spring Break Movie Afternoon
END:VEVENT
END:VCALENDAR
