BEGIN:VCALENDAR
VERSION:2.0
PRODID:-//indianafreelibrary.org//NONSGML kigkonsult.se iCalcreator 2.30.10
 //
CALSCALE:GREGORIAN
METHOD:PUBLISH
UID:706812aa-0516-47a2-b1c8-b9159bf4b297
X-WR-CALDESC:
X-WR-RELCALID:913ff8ed8b289c641df8a04c1b5b0684
X-WR-TIMEZONE:America/New_York
BEGIN:VTIMEZONE
TZID:America/New_York
BEGIN:STANDARD
TZNAME:EST
DTSTART:20251102T020000
TZOFFSETFROM:-0400
TZOFFSETTO:-0500
RDATE:20261101T020000
END:STANDARD
BEGIN:DAYLIGHT
TZNAME:EDT
DTSTART:20260308T020000
TZOFFSETFROM:-0500
TZOFFSETTO:-0400
RDATE:20270314T020000
END:DAYLIGHT
END:VTIMEZONE
BEGIN:VEVENT
UID:da8673f3-2309-4e22-ac4b-6af8c626df21
DTSTAMP:20260424T123328Z
DESCRIPTION:
DTSTART;TZID=America/New_York:20260401T110000
DTEND;TZID=America/New_York:20260401T180000
LOCATION:845 Philadelphia St\, Indiana\, PA 15701 US
SUMMARY:Little Read Bookstore
END:VEVENT
END:VCALENDAR
