BEGIN:VCALENDAR
VERSION:2.0
PRODID:-//indianafreelibrary.org//NONSGML kigkonsult.se iCalcreator 2.30.10
 //
CALSCALE:GREGORIAN
METHOD:PUBLISH
UID:2563283f-50ff-4417-8d0b-6b1865cf1897
X-WR-CALDESC:Join us as we create a unique and beautiful necklace that spel
 ls your name in Morris code using beads and rolled up book pages.  Registr
 ation is required.
X-WR-RELCALID:edf1c98abd626bbf38fb4649e2af98cc
X-WR-TIMEZONE:America/New_York
BEGIN:VTIMEZONE
TZID:America/New_York
BEGIN:STANDARD
TZNAME:EST
DTSTART:20211107T020000
TZOFFSETFROM:-0400
TZOFFSETTO:-0500
RDATE:20221106T020000
RDATE:20231105T020000
END:STANDARD
BEGIN:DAYLIGHT
TZNAME:EDT
DTSTART:20220313T020000
TZOFFSETFROM:-0500
TZOFFSETTO:-0400
RDATE:20230312T020000
END:DAYLIGHT
END:VTIMEZONE
BEGIN:VEVENT
UID:b6bb9035-c76d-4772-81ad-277df8d160d4
DTSTAMP:20260423T044441Z
DESCRIPTION:Join us as we create a unique and beautiful necklace that spell
 s your name in Morris code using beads and rolled up book pages.  Registra
 tion is required.
DTSTART;TZID=America/New_York:20220608T140000
DTEND;TZID=America/New_York:20220608T150000
LOCATION:
SUMMARY:Crafternoon
END:VEVENT
END:VCALENDAR
