BEGIN:VCALENDAR
VERSION:2.0
PRODID:-//indianafreelibrary.org//NONSGML kigkonsult.se iCalcreator 2.30.10
 //
CALSCALE:GREGORIAN
METHOD:PUBLISH
UID:b89c95b8-bad3-4035-86d9-a851c7d5468a
X-WR-CALDESC:True Story Book Club\n\nFrom Here to Eternity: Traveling the W
 orld to Find the Good Death by Caitlin Doughty (272 p.)\n\nFascinated by o
 ur pervasive fear of dead bodies\, mortician Caitlin Doughty set out to di
 scover how other cultures care for the dead. From Here to Eternity is an i
 mmersive global journey that introduces compelling\, powerful rituals almo
 st entirely unknown in America.\n\nIn rural Indonesia\, she watches a man 
 clean and dress his grandfather’s mummified body\, which has resided in th
 e family home for two years. In La Paz\, she meets Bolivian ñatitas (cigar
 ette-smoking\, wish-granting human skulls)\, and in Tokyo she encounters t
 he Japanese kotsuage ceremony\, in which relatives use chopsticks to pluck
  their loved-ones’ bones from cremation ashes.\n\nWith boundless curiosity
  and gallows humor\, Doughty vividly describes decomposed bodies and inves
 tigates the world’s funerary history. She introduces deathcare innovators 
 researching body composting and green burial\, and examines how varied tra
 ditions\, from Mexico’s Días de los Muertos to Zoroastrian sky burial help
  us see our own death customs in a new light.\n\nDoughty contends that the
  American funeral industry sells a particular―and\, upon close inspection\
 , peculiar―set of 'respectful' rites: bodies are whisked to a mortuary\, p
 umped full of chemicals\, and entombed in concrete. She argues that our ex
 pensive\, impersonal system fosters a corrosive fear of death that hinders
  our ability to cope and mourn. By comparing customs\, she demonstrates th
 at mourners everywhere respond best when they help care for the deceased\,
  and have space to participate in the process.\n\nExquisitely illustrated 
 by artist Landis Blair\, From Here to Eternity is an adventure into the mo
 rbid unknown\, a story about the many fascinating ways people everywhere h
 ave confronted the very human challenge of mortality.\n\n
X-WR-RELCALID:a5543c4fe69245214d8a37ff3e044bd2
X-WR-TIMEZONE:America/New_York
BEGIN:VTIMEZONE
TZID:America/New_York
BEGIN:STANDARD
TZNAME:EST
DTSTART:20251102T020000
TZOFFSETFROM:-0400
TZOFFSETTO:-0500
RDATE:20261101T020000
RDATE:20271107T020000
END:STANDARD
BEGIN:DAYLIGHT
TZNAME:EDT
DTSTART:20260308T020000
TZOFFSETFROM:-0500
TZOFFSETTO:-0400
RDATE:20270314T020000
RDATE:20280312T020000
END:DAYLIGHT
END:VTIMEZONE
BEGIN:VEVENT
UID:4a048a42-1f62-4589-9b55-d26f5a1bd0d3
DTSTAMP:20260419T123818Z
DESCRIPTION:True Story Book Club\n\nFrom Here to Eternity: Traveling the Wo
 rld to Find the Good Death by Caitlin Doughty (272 p.)\n\nFascinated by ou
 r pervasive fear of dead bodies\, mortician Caitlin Doughty set out to dis
 cover how other cultures care for the dead. From Here to Eternity is an im
 mersive global journey that introduces compelling\, powerful rituals almos
 t entirely unknown in America.\n\nIn rural Indonesia\, she watches a man c
 lean and dress his grandfather’s mummified body\, which has resided in the
  family home for two years. In La Paz\, she meets Bolivian ñatitas (cigare
 tte-smoking\, wish-granting human skulls)\, and in Tokyo she encounters th
 e Japanese kotsuage ceremony\, in which relatives use chopsticks to pluck 
 their loved-ones’ bones from cremation ashes.\n\nWith boundless curiosity 
 and gallows humor\, Doughty vividly describes decomposed bodies and invest
 igates the world’s funerary history. She introduces deathcare innovators r
 esearching body composting and green burial\, and examines how varied trad
 itions\, from Mexico’s Días de los Muertos to Zoroastrian sky burial help 
 us see our own death customs in a new light.\n\nDoughty contends that the 
 American funeral industry sells a particular―and\, upon close inspection\,
  peculiar―set of 'respectful' rites: bodies are whisked to a mortuary\, pu
 mped full of chemicals\, and entombed in concrete. She argues that our exp
 ensive\, impersonal system fosters a corrosive fear of death that hinders 
 our ability to cope and mourn. By comparing customs\, she demonstrates tha
 t mourners everywhere respond best when they help care for the deceased\, 
 and have space to participate in the process.\n\nExquisitely illustrated b
 y artist Landis Blair\, From Here to Eternity is an adventure into the mor
 bid unknown\, a story about the many fascinating ways people everywhere ha
 ve confronted the very human challenge of mortality.\n\n
DTSTART;TZID=America/New_York:20261006T110000
DTEND;TZID=America/New_York:20261006T120000
LOCATION:
SUMMARY:True Story Book Club: From Here to Eternity: Traveling the World to
  Find the Good Death
END:VEVENT
END:VCALENDAR
