BEGIN:VCALENDAR
VERSION:2.0
PRODID:-//indianafreelibrary.org//NONSGML kigkonsult.se iCalcreator 2.30.10
 //
CALSCALE:GREGORIAN
METHOD:PUBLISH
UID:e09ece9a-2a4c-4e59-958a-c27eb8867fc3
X-WR-CALDESC:Join us this summer for book club! This month we are reading '
 Divergent' by Veronica Roth. \nBooks will be available on the book club sh
 elf by the computers.
X-WR-RELCALID:88e05c93b9eb5ea69450065631f9b9e2
X-WR-TIMEZONE:America/New_York
BEGIN:VTIMEZONE
TZID:America/New_York
BEGIN:STANDARD
TZNAME:EST
DTSTART:20251102T020000
TZOFFSETFROM:-0400
TZOFFSETTO:-0500
RDATE:20261101T020000
RDATE:20271107T020000
END:STANDARD
BEGIN:DAYLIGHT
TZNAME:EDT
DTSTART:20260308T020000
TZOFFSETFROM:-0500
TZOFFSETTO:-0400
RDATE:20270314T020000
END:DAYLIGHT
END:VTIMEZONE
BEGIN:VEVENT
UID:bc51e67f-502f-42ff-bd49-d5d1ed039a77
DTSTAMP:20260423T100340Z
DESCRIPTION:Join us this summer for book club! This month we are reading 'D
 ivergent' by Veronica Roth. \nBooks will be available on the book club she
 lf by the computers.
DTSTART;TZID=America/New_York:20260622T190000
DTEND;TZID=America/New_York:20260622T200000
LOCATION:845 Philadelphia St\, Indiana\, PA 15701 US
SUMMARY:Teen Summer Book Club
END:VEVENT
END:VCALENDAR
