BEGIN:VCALENDAR
VERSION:2.0
PRODID:-//indianafreelibrary.org//NONSGML kigkonsult.se iCalcreator 2.30.10
 //
CALSCALE:GREGORIAN
METHOD:PUBLISH
UID:f49070ea-d358-482b-8267-0d0987a492a8
X-WR-CALDESC:Movies at the library is the perfect way to beat the heat and 
 hang out with friends. Relax in a cool\, comfortable space\, enjoy a great
  film\, and connect with other teens—no tickets\, just good vibes and a go
 od movie.
X-WR-RELCALID:6f18c1e904240319fb414a6881310b86
X-WR-TIMEZONE:America/New_York
BEGIN:VTIMEZONE
TZID:America/New_York
BEGIN:STANDARD
TZNAME:EST
DTSTART:20251102T020000
TZOFFSETFROM:-0400
TZOFFSETTO:-0500
RDATE:20261101T020000
RDATE:20271107T020000
END:STANDARD
BEGIN:DAYLIGHT
TZNAME:EDT
DTSTART:20260308T020000
TZOFFSETFROM:-0500
TZOFFSETTO:-0400
RDATE:20270314T020000
END:DAYLIGHT
END:VTIMEZONE
BEGIN:VEVENT
UID:ea75d5c2-07b6-4845-b255-d1ce4bb07eb6
DTSTAMP:20260421T201148Z
DESCRIPTION:Movies at the library is the perfect way to beat the heat and h
 ang out with friends. Relax in a cool\, comfortable space\, enjoy a great 
 film\, and connect with other teens—no tickets\, just good vibes and a goo
 d movie.
DTSTART;TZID=America/New_York:20260611T140000
DTEND;TZID=America/New_York:20260611T163000
LOCATION:845 Philadelphia St\, Indiana\, PA 15701 US
SUMMARY:Movie Afternoons
END:VEVENT
END:VCALENDAR
