BEGIN:VCALENDAR
VERSION:2.0
PRODID:-//indianafreelibrary.org//NONSGML kigkonsult.se iCalcreator 2.30.10
 //
CALSCALE:GREGORIAN
METHOD:PUBLISH
UID:069ec269-74c2-4b86-bccd-5b1b2a0eebfb
X-WR-CALDESC:Guilty Pleasures Book Club\n\nHana Khan Carries On by Uzma Jal
 aluddin\n\nSales are slow at Three Sisters Biryani Poutine\, the only hala
 l restaurant in the close-knit Golden Crescent neighborhood of Toronto. Ha
 na waitresses there part time\, but what she really wants is to tell stori
 es on the radio. If she can just outshine her fellow intern at the city ra
 dio station\, she may have a chance at landing a job. In the meantime\, Ha
 na pours her thoughts and dreams into a podcast\, where she forms a lively
  relationship with one of her listeners. But soon she'll need all the supp
 ort she can get: a new competing restaurant\, a more upscale halal place\,
  is about to open in the Golden Crescent\, threatening her mother’s restau
 rant.\n\nWhen her mysterious aunt and her teenage cousin arrive from India
  for a surprise visit\, they draw Hana into a long-buried family secret. A
  hate-motivated attack on their neighborhood complicates the situation fur
 ther\, as does Hana's growing attraction for Aydin\, the young owner of th
 e rival restaurant--who might not be a complete stranger after all.\n\nAs 
 life on the Golden Crescent unravels\, Hana must learn to use her voice\, 
 draw on the strength of her community and decide what her future should be
 .\n\n~~~~~~~~~~~~~~~~~~~~~~~~~~~~~~~~~~~~~~~~~~~~~~~~~~~~~~~~~~~~~~~~~~~~~
 ~~~~~~~~~~~\n\nAre you:\n• An adult who enjoys reading Young Adult novels?
 \nn A parent who would like some “me time” to socialize with other adults 
 while discussing a digestible book?\n• A parent\, guardian\, or mentor who
  wants to keep in touch with what their kids are reading (or even find som
 e recommendations)?\n\nJoin us the 2nd Wednesday of each month for the Gui
 lty Pleasures Book Club\, where we will meet in a relaxed environment to c
 hat and discuss a different YA book. This is a low-pressure\, judgement-fr
 ee book club where we encourage reading what YOU want.\n\nBooks are availa
 ble at the library and we will try to pick titles available in e-book/audi
 obook through CloudLibrary.
X-WR-RELCALID:ebc4723858c7faa3ad66016d572685cb
X-WR-TIMEZONE:America/New_York
BEGIN:VTIMEZONE
TZID:America/New_York
BEGIN:STANDARD
TZNAME:EST
DTSTART:20251102T020000
TZOFFSETFROM:-0400
TZOFFSETTO:-0500
RDATE:20261101T020000
RDATE:20271107T020000
END:STANDARD
BEGIN:DAYLIGHT
TZNAME:EDT
DTSTART:20260308T020000
TZOFFSETFROM:-0500
TZOFFSETTO:-0400
RDATE:20270314T020000
END:DAYLIGHT
END:VTIMEZONE
BEGIN:VEVENT
UID:aba86d39-70d4-4a9d-b77d-86dfdbd637b4
DTSTAMP:20260420T194509Z
DESCRIPTION:Guilty Pleasures Book Club\n\nHana Khan Carries On by Uzma Jala
 luddin\n\nSales are slow at Three Sisters Biryani Poutine\, the only halal
  restaurant in the close-knit Golden Crescent neighborhood of Toronto. Han
 a waitresses there part time\, but what she really wants is to tell storie
 s on the radio. If she can just outshine her fellow intern at the city rad
 io station\, she may have a chance at landing a job. In the meantime\, Han
 a pours her thoughts and dreams into a podcast\, where she forms a lively 
 relationship with one of her listeners. But soon she'll need all the suppo
 rt she can get: a new competing restaurant\, a more upscale halal place\, 
 is about to open in the Golden Crescent\, threatening her mother’s restaur
 ant.\n\nWhen her mysterious aunt and her teenage cousin arrive from India 
 for a surprise visit\, they draw Hana into a long-buried family secret. A 
 hate-motivated attack on their neighborhood complicates the situation furt
 her\, as does Hana's growing attraction for Aydin\, the young owner of the
  rival restaurant--who might not be a complete stranger after all.\n\nAs l
 ife on the Golden Crescent unravels\, Hana must learn to use her voice\, d
 raw on the strength of her community and decide what her future should be.
 \n\n~~~~~~~~~~~~~~~~~~~~~~~~~~~~~~~~~~~~~~~~~~~~~~~~~~~~~~~~~~~~~~~~~~~~~~
 ~~~~~~~~~~\n\nAre you:\n• An adult who enjoys reading Young Adult novels?
 \nn A parent who would like some “me time” to socialize with other adults 
 while discussing a digestible book?\n• A parent\, guardian\, or mentor who
  wants to keep in touch with what their kids are reading (or even find som
 e recommendations)?\n\nJoin us the 2nd Wednesday of each month for the Gui
 lty Pleasures Book Club\, where we will meet in a relaxed environment to c
 hat and discuss a different YA book. This is a low-pressure\, judgement-fr
 ee book club where we encourage reading what YOU want.\n\nBooks are availa
 ble at the library and we will try to pick titles available in e-book/audi
 obook through CloudLibrary.
DTSTART;TZID=America/New_York:20260610T190000
DTEND;TZID=America/New_York:20260610T200000
LOCATION:845 Philadelphia Street\, Indiana\, PA 15701 US
SUMMARY:Guilty Pleasures Book Club: Hana Khan Carries On
END:VEVENT
END:VCALENDAR
