BEGIN:VCALENDAR
VERSION:2.0
PRODID:-//indianafreelibrary.org//NONSGML kigkonsult.se iCalcreator 2.30.10
 //
CALSCALE:GREGORIAN
METHOD:PUBLISH
UID:5047b490-63ed-4eb7-a867-22ab1d64b4ba
X-WR-CALDESC:Teens will learn how to make ice cream with basic household in
 gredients.
X-WR-RELCALID:61aec530a3deacb87a3415deea07a2df
X-WR-TIMEZONE:America/New_York
BEGIN:VTIMEZONE
TZID:America/New_York
BEGIN:STANDARD
TZNAME:EST
DTSTART:20251102T020000
TZOFFSETFROM:-0400
TZOFFSETTO:-0500
RDATE:20261101T020000
RDATE:20271107T020000
END:STANDARD
BEGIN:DAYLIGHT
TZNAME:EDT
DTSTART:20260308T020000
TZOFFSETFROM:-0500
TZOFFSETTO:-0400
RDATE:20270314T020000
END:DAYLIGHT
END:VTIMEZONE
BEGIN:VEVENT
UID:c66eb398-d469-4fd4-a020-408cad66fa96
DTSTAMP:20260421T201519Z
DESCRIPTION:Teens will learn how to make ice cream with basic household ing
 redients.
DTSTART;TZID=America/New_York:20260609T143000
DTEND;TZID=America/New_York:20260609T153000
LOCATION:845 Philadelphia St\, Indiana\, PA 15701 US
SUMMARY:Teens Make Stuff: Ice Cream
END:VEVENT
END:VCALENDAR
