BEGIN:VCALENDAR
VERSION:2.0
PRODID:-//indianafreelibrary.org//NONSGML kigkonsult.se iCalcreator 2.30.10
 //
CALSCALE:GREGORIAN
METHOD:PUBLISH
UID:338f0f4b-2e5d-4b52-816c-7e17bdd83c41
X-WR-CALDESC:The Indiana Free Library will be closed Monday\, May 25th\, 20
 26 in observance of Memorial day. We will reopen Tuesday\, May 26th at 10:
 00 AM. Thank you for your understanding.
X-WR-RELCALID:911bde4855b66c483563dcc2dc9e37af
X-WR-TIMEZONE:America/New_York
BEGIN:VTIMEZONE
TZID:America/New_York
BEGIN:STANDARD
TZNAME:EST
DTSTART:20251102T020000
TZOFFSETFROM:-0400
TZOFFSETTO:-0500
RDATE:20261101T020000
RDATE:20271107T020000
END:STANDARD
BEGIN:DAYLIGHT
TZNAME:EDT
DTSTART:20260308T020000
TZOFFSETFROM:-0500
TZOFFSETTO:-0400
RDATE:20270314T020000
END:DAYLIGHT
END:VTIMEZONE
BEGIN:VEVENT
UID:9b985c2c-4858-4eec-89ed-9ea5ab7af2d3
DTSTAMP:20260420T195118Z
DESCRIPTION:The Indiana Free Library will be closed Monday\, May 25th\, 202
 6 in observance of Memorial day. We will reopen Tuesday\, May 26th at 10:0
 0 AM. Thank you for your understanding.
DTSTART;TZID=America/New_York:20260525T060000
DTEND;TZID=America/New_York:20260525T060001
LOCATION:845 Philadelphia Street\, Indiana\, PA 15701 US
SUMMARY:CLOSED for Memorial Day
END:VEVENT
END:VCALENDAR
