BEGIN:VCALENDAR
VERSION:2.0
PRODID:-//indianafreelibrary.org//NONSGML kigkonsult.se iCalcreator 2.30.10
 //
CALSCALE:GREGORIAN
METHOD:PUBLISH
UID:bca223c9-3098-4580-846b-dbbafb59b459
X-WR-CALDESC:Join us in the craft area of the Children's Department at 1 to
  3 PM for self-directed arts & crafts time for 6-11 year olds. All materia
 ls and instructions for the activity will be provided. Our program is free
  and open to the public. Just stop in and create something!
X-WR-RELCALID:758173e740508884135cf7acb951a246
X-WR-TIMEZONE:America/New_York
BEGIN:VTIMEZONE
TZID:America/New_York
BEGIN:STANDARD
TZNAME:EST
DTSTART:20251102T020000
TZOFFSETFROM:-0400
TZOFFSETTO:-0500
RDATE:20261101T020000
RDATE:20271107T020000
END:STANDARD
BEGIN:DAYLIGHT
TZNAME:EDT
DTSTART:20260308T020000
TZOFFSETFROM:-0500
TZOFFSETTO:-0400
RDATE:20270314T020000
END:DAYLIGHT
END:VTIMEZONE
BEGIN:VEVENT
UID:70e650d4-94d6-4ad2-9d62-5c1d0ad07d39
DTSTAMP:20260423T022222Z
DESCRIPTION:Join us in the craft area of the Children's Department at 1 to 
 3 PM for self-directed arts & crafts time for 6-11 year olds. All material
 s and instructions for the activity will be provided. Our program is free 
 and open to the public. Just stop in and create something!
DTSTART;TZID=America/New_York:20260516T130000
DTEND;TZID=America/New_York:20260516T150000
LOCATION:Craft Area of the Children's Department
SUMMARY:The Craft House: Rock Garden Gnomes
END:VEVENT
END:VCALENDAR
