BEGIN:VCALENDAR
VERSION:2.0
PRODID:-//indianafreelibrary.org//NONSGML kigkonsult.se iCalcreator 2.30.10
 //
CALSCALE:GREGORIAN
METHOD:PUBLISH
UID:daf4621e-a6de-4a41-b4f4-3b0567a7ad7b
X-WR-CALDESC:Guilty Pleasures Book Club\n\nChildren of Blood and Bone by To
 mi Adeyemi\n\nThey killed my mother.\nThey took our magic.\nThey tried to 
 bury us.\n\nNow we rise.\n\nZélie Adebola remembers when the soil of Orïsh
 a hummed with magic. Burners ignited flames\, Tiders beckoned waves\, and 
 Zélie’s Reaper mother summoned forth souls.\n\nBut everything changed the 
 night magic disappeared. Under the orders of a ruthless king\, maji were k
 illed\, leaving Zélie without a mother and her people without hope.\n\nNow
  Zélie has one chance to bring back magic and strike against the monarchy.
  With the help of a rogue princess\, Zélie must outwit and outrun the crow
 n prince\, who is hell-bent on eradicating magic for good.\n\nDanger lurks
  in Orïsha\, where snow leoponaires prowl and vengeful spirits wait in the
  waters. Yet the greatest danger may be Zélie herself as she struggles to 
 control her powers and her growing feelings for an enemy.\n\n\n~~~~~~~~~~~
 ~~~~~~~~~~~~~~~~~~~~~~~~~~~~~~~~~~~~~~~~~~~~~~~~~~~~~~~~~~~~~~~~~~~~~\n\nA
 re you:\n• An adult who enjoys reading Young Adult novels?\n• A parent who
  would like some “me time” to socialize with other adults while discussing
  a digestible book?\n• A parent\, guardian\, or mentor who wants to keep i
 n touch with what their kids are reading (or even find some recommendation
 s)?\n\nJoin us the 2nd Wednesday of each month for the Guilty Pleasures Bo
 ok Club\, where we will meet in a relaxed environment to chat and discuss 
 a different YA book. This is a low-pressure\, judgement-free book club whe
 re we encourage reading what YOU want.\n\nBooks are available at the libra
 ry and we will try to pick titles available in e-book/audiobook through Cl
 oudLibrary.
X-WR-RELCALID:b24ea13649862af48631f9e0f9899aff
X-WR-TIMEZONE:America/New_York
BEGIN:VTIMEZONE
TZID:America/New_York
BEGIN:STANDARD
TZNAME:EST
DTSTART:20251102T020000
TZOFFSETFROM:-0400
TZOFFSETTO:-0500
RDATE:20261101T020000
RDATE:20271107T020000
END:STANDARD
BEGIN:DAYLIGHT
TZNAME:EDT
DTSTART:20260308T020000
TZOFFSETFROM:-0500
TZOFFSETTO:-0400
RDATE:20270314T020000
END:DAYLIGHT
END:VTIMEZONE
BEGIN:VEVENT
UID:ac7cf919-2f6f-4d47-8bcd-9f66d05361f2
DTSTAMP:20260420T195204Z
DESCRIPTION:Guilty Pleasures Book Club\n\nChildren of Blood and Bone by Tom
 i Adeyemi\n\nThey killed my mother.\nThey took our magic.\nThey tried to b
 ury us.\n\nNow we rise.\n\nZélie Adebola remembers when the soil of Orïsha
  hummed with magic. Burners ignited flames\, Tiders beckoned waves\, and Z
 élie’s Reaper mother summoned forth souls.\n\nBut everything changed the n
 ight magic disappeared. Under the orders of a ruthless king\, maji were ki
 lled\, leaving Zélie without a mother and her people without hope.\n\nNow 
 Zélie has one chance to bring back magic and strike against the monarchy. 
 With the help of a rogue princess\, Zélie must outwit and outrun the crown
  prince\, who is hell-bent on eradicating magic for good.\n\nDanger lurks 
 in Orïsha\, where snow leoponaires prowl and vengeful spirits wait in the 
 waters. Yet the greatest danger may be Zélie herself as she struggles to c
 ontrol her powers and her growing feelings for an enemy.\n\n\n~~~~~~~~~~~~
 ~~~~~~~~~~~~~~~~~~~~~~~~~~~~~~~~~~~~~~~~~~~~~~~~~~~~~~~~~~~~~~~~~~~~\n\nAr
 e you:\n• An adult who enjoys reading Young Adult novels?\n• A parent who 
 would like some “me time” to socialize with other adults while discussing 
 a digestible book?\n• A parent\, guardian\, or mentor who wants to keep in
  touch with what their kids are reading (or even find some recommendations
 )?\n\nJoin us the 2nd Wednesday of each month for the Guilty Pleasures Boo
 k Club\, where we will meet in a relaxed environment to chat and discuss a
  different YA book. This is a low-pressure\, judgement-free book club wher
 e we encourage reading what YOU want.\n\nBooks are available at the librar
 y and we will try to pick titles available in e-book/audiobook through Clo
 udLibrary.
DTSTART;TZID=America/New_York:20260513T190000
DTEND;TZID=America/New_York:20260513T200000
LOCATION:845 Philadelphia Street\, Indiana\, PA 15701 US
SUMMARY:Guilty Pleasures Book Club: Children of Blood and Bone
END:VEVENT
END:VCALENDAR
