BEGIN:VCALENDAR
VERSION:2.0
PRODID:-//indianafreelibrary.org//NONSGML kigkonsult.se iCalcreator 2.30.10
 //
CALSCALE:GREGORIAN
METHOD:PUBLISH
UID:ef8cd170-070f-4e6a-95f0-ac3449ee41ac
X-WR-CALDESC:
X-WR-RELCALID:97eaee2ed1e6d226844feab46da0e890
X-WR-TIMEZONE:America/New_York
BEGIN:VTIMEZONE
TZID:America/New_York
BEGIN:STANDARD
TZNAME:EST
DTSTART:20231105T020000
TZOFFSETFROM:-0400
TZOFFSETTO:-0500
RDATE:20241103T020000
RDATE:20251102T020000
END:STANDARD
BEGIN:DAYLIGHT
TZNAME:EDT
DTSTART:20240310T020000
TZOFFSETFROM:-0500
TZOFFSETTO:-0400
RDATE:20250309T020000
END:DAYLIGHT
END:VTIMEZONE
BEGIN:VEVENT
UID:9e2fe23c-0f71-436b-a87e-6fb0f4f6cf55
DTSTAMP:20260421T143312Z
DESCRIPTION:
DTSTART;TZID=America/New_York:20240817T130000
DTEND;TZID=America/New_York:20240817T150000
LOCATION:
SUMMARY:The Craft House
END:VEVENT
END:VCALENDAR
