BEGIN:VCALENDAR
VERSION:2.0
PRODID:-//indianafreelibrary.org//NONSGML kigkonsult.se iCalcreator 2.30.10
 //
CALSCALE:GREGORIAN
METHOD:PUBLISH
UID:c57e9b5f-02f8-446a-8dba-bce203e190b1
X-WR-CALDESC:Marble Run\nGet your engineering hats on!  Today we are buildi
 ng marble runs.  We will see who can create the longest\, fastest\, and mo
 st creative runs.\n\nEach Tuesday this summer teens can explore new techno
 logy\, improve skills\, and have fun.  Teens age 12 – 16 are invited to si
 gn up. registration is required.
X-WR-RELCALID:6ca44070ae11905c80151ae8f4591f52
X-WR-TIMEZONE:America/New_York
BEGIN:VTIMEZONE
TZID:America/New_York
BEGIN:STANDARD
TZNAME:EST
DTSTART:20221106T020000
TZOFFSETFROM:-0400
TZOFFSETTO:-0500
RDATE:20231105T020000
RDATE:20241103T020000
END:STANDARD
BEGIN:DAYLIGHT
TZNAME:EDT
DTSTART:20230312T020000
TZOFFSETFROM:-0500
TZOFFSETTO:-0400
RDATE:20240310T020000
END:DAYLIGHT
END:VTIMEZONE
BEGIN:VEVENT
UID:196497de-65e0-465a-baea-5edda5a86063
DTSTAMP:20260424T081952Z
DESCRIPTION:Marble Run\nGet your engineering hats on!  Today we are buildin
 g marble runs.  We will see who can create the longest\, fastest\, and mos
 t creative runs.\n\nEach Tuesday this summer teens can explore new technol
 ogy\, improve skills\, and have fun.  Teens age 12 – 16 are invited to sig
 n up. registration is required.
DTSTART;TZID=America/New_York:20230627T140000
DTEND;TZID=America/New_York:20230627T150000
LOCATION:
SUMMARY:Teen Tech U
END:VEVENT
END:VCALENDAR
