BEGIN:VCALENDAR
VERSION:2.0
PRODID:-//indianafreelibrary.org//NONSGML kigkonsult.se iCalcreator 2.30.10
 //
CALSCALE:GREGORIAN
METHOD:PUBLISH
UID:3cb88134-a9fd-46e7-aaee-35a439eb68be
X-WR-CALDESC:Word:  Learn the basic of creating a Word document.  We will c
 over creating a new Word document\, reviewing the different menus\, and sa
 ving the document.  This class is for beginners that are interested in lea
 rning about Microsoft Word.  \nSign-up is required.  Register by clicking 
 the button above or call the library.  \n
X-WR-RELCALID:b81cdd1ff533048aa27de73c038fc43c
X-WR-TIMEZONE:America/New_York
BEGIN:VTIMEZONE
TZID:America/New_York
BEGIN:STANDARD
TZNAME:EST
DTSTART:20221106T020000
TZOFFSETFROM:-0400
TZOFFSETTO:-0500
RDATE:20231105T020000
RDATE:20241103T020000
END:STANDARD
BEGIN:DAYLIGHT
TZNAME:EDT
DTSTART:20230312T020000
TZOFFSETFROM:-0500
TZOFFSETTO:-0400
RDATE:20240310T020000
END:DAYLIGHT
END:VTIMEZONE
BEGIN:VEVENT
UID:5d49049e-7798-4306-8cff-61c80e9b53ba
DTSTAMP:20260420T094430Z
DESCRIPTION:Word:  Learn the basic of creating a Word document.  We will co
 ver creating a new Word document\, reviewing the different menus\, and sav
 ing the document.  This class is for beginners that are interested in lear
 ning about Microsoft Word.  \nSign-up is required.  Register by clicking t
 he button above or call the library.  \n
DTSTART;TZID=America/New_York:20230619T140000
DTEND;TZID=America/New_York:20230619T150000
LOCATION:
SUMMARY:Learn Office Now!: Word
END:VEVENT
END:VCALENDAR
